BEGIN:VCALENDAR
VERSION:2.0
PRODID:-//Mobile Memorial Gardens - ECPv5.16.3.1//NONSGML v1.0//EN
CALSCALE:GREGORIAN
METHOD:PUBLISH
X-ORIGINAL-URL:https://mobilememorialgardens.com
X-WR-CALDESC:Events for Mobile Memorial Gardens
REFRESH-INTERVAL;VALUE=DURATION:PT1H
X-Robots-Tag:noindex
X-PUBLISHED-TTL:PT1H
BEGIN:VTIMEZONE
TZID:UTC
BEGIN:STANDARD
TZOFFSETFROM:+0000
TZOFFSETTO:+0000
TZNAME:UTC
DTSTART:20230101T000000
END:STANDARD
END:VTIMEZONE
BEGIN:VEVENT
DTSTART;TZID=UTC:20231102T083000
DTEND;TZID=UTC:20231102T100000
DTSTAMP:20260423T170545
CREATED:20231019T145023Z
LAST-MODIFIED:20231108T194019Z
UID:34910-1698913800-1698919200@mobilememorialgardens.com
SUMMARY:All Souls Day Mass
DESCRIPTION:Saint Vincent dePaul Catholic Church will conduct their annual All Souls Day Mass on the grounds of Mobile Memorial Gardens Cemetery in the Garden Of Crucifixion section. The event is open to the general public.
URL:https://mobilememorialgardens.com/event/all-souls-day-mass-2/
LOCATION:Mobile Memorial Gardens Cemetery\, 6100 Three Notch Rd\, Mobile\, AL\, United States
END:VEVENT
END:VCALENDAR